BEGIN:VCALENDAR
VERSION:2.0
PRODID:-//Plone.org//NONSGML plone.app.event//EN
X-WR-TIMEZONE:Brazil/East
BEGIN:VEVENT
SUMMARY:Audiência Pública
DTSTART;TZID=Brazil/East;VALUE=DATE-TIME:20211124T100000
DTEND;TZID=Brazil/East;VALUE=DATE-TIME:20211124T130000
DTSTAMP;VALUE=DATE-TIME:20260424T090517Z
UID:6b0c6e41778c49b5b37e7ce87d8c81a5@www.engenheiropaulodefrontin.rj.leg.b
 r
CONTACT:Secretaria\, 24999871514\, camaraepf@gmail.com
CREATED;VALUE=DATE-TIME:20211118T180320Z
DESCRIPTION:Convite de audiência Pública\, que ocorrerá em 24 de novemb
 ro de 2021\, que versa sobre a Revisão da lei Orgânica Municipal\, assim
  como\, Regimento Interno deste Legislativo.\n
LAST-MODIFIED;VALUE=DATE-TIME:20211118T180328Z
LOCATION:Plenário da Câmara Municipal
URL:https://www.engenheiropaulodefrontin.rj.leg.br/institucional/eventos/a
 udiencia-publica-1
END:VEVENT
BEGIN:VEVENT
SUMMARY:Mulheres em Foco
DTSTART;TZID=Brazil/East;VALUE=DATE-TIME:20211018T140000
DTEND;TZID=Brazil/East;VALUE=DATE-TIME:20211018T180000
DTSTAMP;VALUE=DATE-TIME:20260424T090517Z
UID:de62efb31651413faf1a5f8910125c2e@www.engenheiropaulodefrontin.rj.leg.b
 r
CONTACT:(24) 2463-1212
CREATED;VALUE=DATE-TIME:20211018T191649Z
DESCRIPTION:Mulheres em Foco\, o ciclo de palestras delas para elas.
LAST-MODIFIED;VALUE=DATE-TIME:20211018T191658Z
LOCATION:Plenário da Câmara Municipal
URL:https://www.engenheiropaulodefrontin.rj.leg.br/institucional/eventos/m
 ulheres-em-foco
END:VEVENT
BEGIN:VEVENT
SUMMARY:Sessão Plenária da Câmara Municipal de Engenheiro Paulo de Fron
 tin
DTSTART;TZID=Brazil/East;VALUE=DATE-TIME:20211011T183000
DTEND;TZID=Brazil/East;VALUE=DATE-TIME:20211011T193000
DTSTAMP;VALUE=DATE-TIME:20260424T090517Z
UID:abe134823de044f59b6c54f46bcd65d5@www.engenheiropaulodefrontin.rj.leg.b
 r
CONTACT:Secretaria da Câmara Municipal\, (24)24631212\, camaraepf@gmail.c
 om
CREATED;VALUE=DATE-TIME:20211011T154430Z
DESCRIPTION:O Presidente da Câmara Municipal de Engenheiro Paulo de Front
 in\, convida toda a população Frontinense a participarem das sessões Pl
 enárias todas as segundas e quintas a partir das 18:30h.
LAST-MODIFIED;VALUE=DATE-TIME:20211011T155331Z
LOCATION:Plenário da Câmara Municipal
RRULE:FREQ=WEEKLY;UNTIL=20211230T000000;BYDAY=MO,TH
URL:https://www.engenheiropaulodefrontin.rj.leg.br/institucional/eventos/s
 essao-plenaria-da-camara-municipal-de-engenheiro-paulo-de-frontin
END:VEVENT
BEGIN:VEVENT
SUMMARY:1ª Sessão Legislativo 2021
DTSTART;TZID=Brazil/East;VALUE=DATE-TIME:20210222T183000
DTEND;TZID=Brazil/East;VALUE=DATE-TIME:20210222T193000
DTSTAMP;VALUE=DATE-TIME:20260424T090517Z
UID:e848f8c35f334e3caaa60e8cd3dde92c@www.engenheiropaulodefrontin.rj.leg.b
 r
CREATED;VALUE=DATE-TIME:20210219T043342Z
DESCRIPTION:No dia 22 de fevereiro de 2021\, ocorrerá o retorno das ativi
 dades de Sessões Legislativas na Câmara Municipal.
LAST-MODIFIED;VALUE=DATE-TIME:20210219T043434Z
URL:https://www.engenheiropaulodefrontin.rj.leg.br/institucional/eventos/1
 a-sessao-legislativo-2021
END:VEVENT
BEGIN:VEVENT
SUMMARY:1º Ano do Site
DTSTART;TZID=Brazil/East;VALUE=DATE-TIME:20210108T000000
DTEND;TZID=Brazil/East;VALUE=DATE-TIME:20210108T235959
DTSTAMP;VALUE=DATE-TIME:20260424T090517Z
UID:2a86bdd7908441afaa9ff9d66ec87b53
CREATED;VALUE=DATE-TIME:20200108T154405Z
DESCRIPTION:Aniversário de primeiro ano do site desta Casa Legislativa. (
 este evento é um conteúdo de exemplo e pode ser removido)
LAST-MODIFIED;VALUE=DATE-TIME:20200108T154433Z
URL:https://www.engenheiropaulodefrontin.rj.leg.br/institucional/eventos/1
 o-ano-do-site
END:VEVENT
BEGIN:VTIMEZONE
TZID:Brazil/East
X-LIC-LOCATION:Brazil/East
BEGIN:STANDARD
DTSTART;VALUE=DATE-TIME:20210220T230000
TZNAME:BRT
TZOFFSETFROM:-0200
TZOFFSETTO:-0300
END:STANDARD
BEGIN:DAYLIGHT
DTSTART;VALUE=DATE-TIME:20201018T010000
TZNAME:BRST
TZOFFSETFROM:-0300
TZOFFSETTO:-0200
END:DAYLIGHT
BEGIN:DAYLIGHT
DTSTART;VALUE=DATE-TIME:20211017T010000
TZNAME:BRST
TZOFFSETFROM:-0300
TZOFFSETTO:-0200
END:DAYLIGHT
END:VTIMEZONE
END:VCALENDAR
